BEGIN:VCALENDAR
PRODID:NingEventWidget-v1
VERSION:2.0
METHOD:PUBLISH
BEGIN:VEVENT
UID:5167423:Event:347616
DTSTAMP:20260425T235136Z
SUMMARY:Jay’s Car Show & BMore BBS Boyz present Best Of Both Worlds 
 Car Show
DESCRIPTION:\r\nJay’s Car Show & BMore BBS Boyz are hosting the bigg
 est car and bike show on Saturday May 30, 2026 Baltimore Convention Ce
 nter 2pm-7pm.\r\n\r\n\r\n\r\nJay's Car Show & Bmore BBS Boyz present B
 est of Both Worlds Car Show. Saturday May 30, 2026 Baltimore Conventio
 n Center , One West Pratt Street Baltimore, MD 21201. Doors open at 1p
 m for VIP tickets, regular tickets 2pm -7pm. We will have over 300 car
 s & bikes on display for everyone to see. This event will be kid frien
 dly, all kids under the age of 12 will be free. We will have kids game
 s, face painting, vendors, raffles, and celebrity invited guest onsite
 .\r\n\r\n\n\nFor more information visit https://northeastwheelsevents.
 com/events/jay-s-car-show-bmore-bbs-boyz-present-best-of-both-worlds-c
 ar-sho
DTSTART:20260530T180000Z
DTEND:20260530T230000Z
CATEGORIES:carshow
LOCATION:Baltimore Convention Center
WEBSITE:https://www.eventbrite.com/e/jays-car-show-bmore-bbs-boyz-pres
 ent-best-of-both-worlds-car-show-tickets-1777736811659
URL:https://www.eventbrite.com/e/jays-car-show-bmore-bbs-boyz-present-
 best-of-both-worlds-car-show-tickets-1777736811659
CONTACT:202-812-3324
ORGANIZER:Jay's Car Show &amp; Bmore BBS Boyz
ATTACH;FMTTYPE="image/jpeg":https://storage.ning.com/topology/rest/1.0
 /file/get/31052134681?profile=original
ATTENDEE;ROLE=REQ-PARTICIPANT;PARTSTAT=ACCEPTED;RSVP=TRUE;CN="William 
 Bruce":https://northeastwheelsevents.com/profile/WilliamBruce
END:VEVENT
END:VCALENDAR
