BEGIN:VCALENDAR
PRODID:NingEventWidget-v1
VERSION:2.0
METHOD:PUBLISH
BEGIN:VEVENT
UID:5167423:Event:18227
DTSTAMP:20260421T122546Z
SUMMARY:Jeff Gordon's 2013 Corvette Raffle -Concord, NC
DESCRIPTION:2013 Corvette Raffle\nÂ \nPurchaseÂ your ticket today for 
 a chance to win Jeff Gordon's personal 2012 Grand Sport 4LT Corvette C
 onvertible.Â Only 7,500 tickets will be sold.Â The raffle endsÂ Monday
 , September 23, 2013.Â The lucky winner will be announced inÂ October.
 Â View photo gallery of winner announcement from last year.\nÂ \nÂ \nÂ
  Â \nView Full Photo Gallery\n\nÂ Â Â Â Click here to purchase your 20
 13 Corvette Raffle Ticket!Â \n\nThe mission of Jeff Gordon Children's 
 Foundation is to support children battling cancer by funding programs 
 that improve patientsâ€™ quality of life, treatment programs that incr
 ease survivorship and pediatric medical research dedicated to finding 
 a cure.Â \nIn addition, the Foundation provides support to Jeff Gordon
 â€™s Childrenâ€™s Hospital inÂ Concord,Â NC, which serves children in 
 the community by providing a high level of primary and specialty care,
  regardless of their ability to pay.\nIt is our vision that there will
  be a day when no child will face the uncertainty of cancer and that s
 uccessful treatments will not result in negative, long-term effects.Â 
 \nIn addition, we envision that Jeff Gordon Childrenâ€™s Hospital will
  serve as a model to other communities who want to provide the highest
  quality of care to all their children, regardless of their ability to
  pay.\nÂ \n\nFor more information visit https://northeastwheelsevents.
 com/events/jeff-gordon-s-2013-corvette-raffle-concord-nc
DTSTART:20130213T050000Z
DTEND:20130924T035900Z
CATEGORIES:raffle
LOCATION:Jeff Gordon Children's Foundation
WEBSITE:http://www.jeffgordonchildrensfoundation.org/site/c.5oIDJRPyGf
 ISF/b.7882655/k.F4C/2013_Corvette_Raffle.htm
URL:http://www.jeffgordonchildrensfoundation.org/site/c.5oIDJRPyGfISF/
 b.7882655/k.F4C/2013_Corvette_Raffle.htm
CONTACT:980-455-7429
ORGANIZER:Jeff Gordon Children's Foundation
ATTACH;FMTTYPE="image/jpeg":http://storage.ning.com/topology/rest/1.0/
 file/get/2284049168?profile=original
ATTENDEE;ROLE=REQ-PARTICIPANT;PARTSTAT=ACCEPTED;RSVP=TRUE;CN="Michael 
 Thies":https://northeastwheelsevents.com/profile/MichaelThies
END:VEVENT
END:VCALENDAR
