BEGIN:VCALENDAR
PRODID:NingEventWidget-v1
VERSION:2.0
METHOD:PUBLISH
BEGIN:VEVENT
UID:5167423:Event:64301
DTSTAMP:20260422T003624Z
SUMMARY:Jeff Wadsworth
DESCRIPTION:VolksFest 2015, presented by HAVOC, (Harrisburg Area Volks
 wagen Owners Club) \nOpen to all air & water cooled Volkswagens\nShow
  & Shine format with awards for both air & water in several categories
 . Huge swap meet field.\n$5 for show cars, $20 per vendor space, $1 pe
 r car for spectator parking, no other admission fee. Food and beverage
 s available on the show field. A portion of all proceeds benefits the 
 Central PA Foodbank. For complete info, please visit the website liste
 d below. \n\nFor more information visit https://northeastwheelsevents
 .com/events/jeff-wadsworth
DTSTART:20150425T120000Z
DTEND:20150425T190000Z
CATEGORIES:car, show
LOCATION:Mt. Hope Estate & Winery (PA Ren Faire)
WEBSITE:http://www.parenfaire.com/volksfest
URL:http://www.parenfaire.com/volksfest
CONTACT:
ORGANIZER:HAVOC
ATTACH;FMTTYPE="image/jpeg":http://storage.ning.com/topology/rest/1.0/
 file/get/2284066345?profile=original
ATTENDEE;ROLE=REQ-PARTICIPANT;PARTSTAT=ACCEPTED;RSVP=TRUE;CN="Jeff Wad
 sworth":https://northeastwheelsevents.com/profile/JeffWadsworth
END:VEVENT
END:VCALENDAR
