BEGIN:VCALENDAR
PRODID:NingEventWidget-v1
VERSION:2.0
METHOD:PUBLISH
BEGIN:VEVENT
UID:5167423:Event:331621
DTSTAMP:20260425T203858Z
SUMMARY:Jenneca Simkonis Memorial Foundation 3rd Annual Car Show and C
 raft Fair
DESCRIPTION:The Jenneca Simkonis Memorial Foundation will be hosting i
 ts 3rd annual car show and craft fair this year at the Garden Drive In
 , in Hunlock Creek PA from 1pm to 5pm. Free Admission. All cars are w
 elcome. All vendors welcome. The concession stand will be open. Show C
 ar Registration-$10, Craft Vendor Registration-$5. Registration can be
  done online at https://www.GIVEBUTTER.COM/JSMF \r\nhttps://www.garde
 ndrivein.com\r\nJenneca Simkonis Memorial Foundation http://www.jennec
 a.org\n\nFor more information visit https://northeastwheelsevents.com/
 events/jenneca-simkonis-memorial-foundation-3rd-annual-car-show-and-cr
 af
DTSTART:20240824T170000Z
DTEND:20240824T210000Z
CATEGORIES:carshow, benefit
LOCATION:Garden Drive-In
WEBSITE:https://allevents.in/hunlock%20creek/jenneca-simkonis-3rd-annu
 al-car-show-and-craft-fair/80001808426219
URL:https://allevents.in/hunlock%20creek/jenneca-simkonis-3rd-annual-c
 ar-show-and-craft-fair/80001808426219
CONTACT:
ORGANIZER:JSMF
ATTACH;FMTTYPE="image/jpeg":https://storage.ning.com/topology/rest/1.0
 /file/get/12754377069?profile=original
ATTENDEE;ROLE=REQ-PARTICIPANT;PARTSTAT=ACCEPTED;RSVP=TRUE;CN="William 
 Bruce":https://northeastwheelsevents.com/profile/WilliamBruce
END:VEVENT
END:VCALENDAR
