BEGIN:VCALENDAR
PRODID:NingEventWidget-v1
VERSION:2.0
METHOD:PUBLISH
BEGIN:VEVENT
UID:5167423:Event:337870
DTSTAMP:20260423T201528Z
SUMMARY:Joey's Fund 11th Annual Charity Classic Car Show
DESCRIPTION:FREE for Spectators\nDoor Prizes, Giveaways, 50/50 Raffle,
  Trophies, Concessions\nCar Registration: $20 online pre-registration 
 or $25 day of show\n\nFor more information visit https://northeastwhee
 lsevents.com/events/joey-s-fund-11th-annual-charity-classic-car-show
DTSTART:20251005T140000Z
DTEND:20251005T190000Z
CATEGORIES:classic, car, show
LOCATION:Closter Plaza
WEBSITE:https://www.joeyscharityfund.org/
URL:https://www.joeyscharityfund.org/
CONTACT:201-481-5406
ORGANIZER:Joey's Fund, Inc.
ATTACH;FMTTYPE="image/jpeg":https://storage.ning.com/topology/rest/1.0
 /file/get/13517510086?profile=original
ATTENDEE;ROLE=REQ-PARTICIPANT;PARTSTAT=ACCEPTED;RSVP=TRUE;CN="Joey's C
 harity Fund":https://northeastwheelsevents.com/profile/JoeysCharityFun
 d
ATTENDEE;ROLE=REQ-PARTICIPANT;PARTSTAT=TENTATIVE;RSVP=TRUE;CN="William
  Bruce":https://northeastwheelsevents.com/profile/WilliamBruce
END:VEVENT
END:VCALENDAR
