BEGIN:VCALENDAR
PRODID:NingEventWidget-v1
VERSION:2.0
METHOD:PUBLISH
BEGIN:VEVENT
UID:5167423:Event:147391
DTSTAMP:20260425T205405Z
SUMMARY:Joey's Fund Charity Car Show - Help Kids Get Better with Their
  Families by Their Side
DESCRIPTION:Joey's Fund is pleased to announce the date for our Third 
 Annual Charity Car Show. We are extremely thankful to all of those who
  have participated the last two years in order to make our event a suc
 cess for the children and families of St. Joseph's Children's Hospital
 !  \n\nOur 3rd Annual Classic Car Show will be held September 23, 201
 7 at St Mary's Church in Closter, NJ from 11-4 (rain date 9/23).  The
  show will be featuring classic cars, a DJ, trophies for competitors, 
 door prizes, 50/50s and raffles for awesome gifts, food trucks and ven
 dors, and fun games for all!  \n\nWe are an approved organization und
 er the 501(c)(3) section of the Internal Revenue Code.  All proceeds 
 are donated to St Joseph's hospital to help families with children who
  have life threatening illnesses.  In an effort to provide ongoing re
 lief to struggling families suffering from these financial hardships, 
 we are asking our valued friends, neighbors, proprietors for their spo
 nsorship in helping us pay it forward!\n\nWhether you are a vendor int
 erested in pitching in for the event, a business looking to make a raf
 fle donation, a philanthropist looking to donate your time or money to
  this cause, please feel free to email us at donations@joeysfundcharit
 ycarshow.org.  You may also visit our website here to make a donation
  and learn more! www.joeysfundcharitycarshow.org\n\nRaffle ID#: 491-4-
 41527\n\nFor more information visit https://northeastwheelsevents.com/
 events/joey-s-fund-charity-car-show-help-kids-get-better-with-their
DTSTART:20170923T150000Z
DTEND:20170923T200000Z
CATEGORIES:charity, car, show
LOCATION:St Mary's Church
WEBSITE:
URL:
CONTACT:2014816131
ORGANIZER;CN="Joey's Fund":https://northeastwheelsevents.com/profile/J
 oeysFund
ATTACH;FMTTYPE="image/jpeg":http://storage.ning.com/topology/rest/1.0/
 file/get/2284098608?profile=original
ATTENDEE;ROLE=REQ-PARTICIPANT;PARTSTAT=ACCEPTED;RSVP=TRUE;CN="Joey's F
 und":https://northeastwheelsevents.com/profile/JoeysFund
END:VEVENT
END:VCALENDAR
