BEGIN:VCALENDAR
PRODID:NingEventWidget-v1
VERSION:2.0
METHOD:PUBLISH
BEGIN:VEVENT
UID:5167423:Event:332905
DTSTAMP:20260426T002547Z
SUMMARY:Johnstown Moose 1185 Second Annual Car and Truck Show
DESCRIPTION:Johnstown Moose 1185 Presents the Second Annual Car & Truc
 k Show  All Years, Makes, and Models Welcomed!  When: Saturday, August
  24, 2024, ( originally rained out on Sunday, August 18.)  Time: 9:00a
 m-1:00pm  Location: 109 South Comrie Ave, Johnstown, NY 12095  Registr
 ation: $10  Trophy categories: 1-9 and Best of Show 50/50 Basket raffl
 es Food available All proceed to be donated to the Johnstown Moose 118
 5  Contact: Artie Rumrill at (518) 774-0781 (cell) or (518) 705-4029 (
 home).\r\n Disclaimer: Derek Bowman is not affiliated with this car sh
 ow. Derek Bowman created this Facebook event as a courtesy to Artie Ru
 mrill and the Johnstown Moose 1185. Please contact Artie Rumrill at on
 e of the phone numbers listed above with any questions or concerns.\n\
 nFor more information visit https://northeastwheelsevents.com/events/j
 ohnstown-moose-1185-second-annual-car-and-truck-show
DTSTART:20240824T130000Z
DTEND:20240824T170000Z
CATEGORIES:carshow, benefit
LOCATION:Johnstown Moose Lot
WEBSITE:https://www.facebook.com/events/johnstown-moose-1185/johnstown
 -moose-1185-second-annual-car-and-truck-show/1544854356142909/
URL:https://www.facebook.com/events/johnstown-moose-1185/johnstown-moo
 se-1185-second-annual-car-and-truck-show/1544854356142909/
CONTACT:518-705-4029
ORGANIZER:Artie Rumrill/Derek Bowman
ATTACH;FMTTYPE="image/jpeg":https://storage.ning.com/topology/rest/1.0
 /file/get/12863341054?profile=original
ATTENDEE;ROLE=REQ-PARTICIPANT;PARTSTAT=ACCEPTED;RSVP=TRUE;CN="William 
 Bruce":https://northeastwheelsevents.com/profile/WilliamBruce
END:VEVENT
END:VCALENDAR
