BEGIN:VCALENDAR
PRODID:NingEventWidget-v1
VERSION:2.0
METHOD:PUBLISH
BEGIN:VEVENT
UID:5167423:Event:298908
DTSTAMP:20260424T053257Z
SUMMARY:Cumberland Valley Classics Car Club Friday Night Cruise In
DESCRIPTION:Cumberland Valley Classics Car Club 2022 Friday Night Crui
 se Ins at Red Robin Restaurant\nMay 13, May 27, June 10, 24, July 8, 2
 2, August 5, Sept 9, 23\nOct. 7, Oct. 21 5:30-7:30 p.m. - Donation - $
 2.00 Benefits our charity - ProjectShare, Nov. 12th-Toy Run-1pm-4pm-$
 5.00 or unwrapped toy-Benefits- Salvation Army Children's Program\nReg
 ister your car and receive a dash plaque to present for\na 10%  disco
 unt at Red Robin Restaurant.\n\nFor more information visit https://nor
 theastwheelsevents.com/events/joshua-sigman-3
DTSTART:20220513T213000Z
DTEND:20220513T233000Z
CATEGORIES:cruise, in
LOCATION:Red Robin
WEBSITE:
URL:
CONTACT:717-440-4441
ORGANIZER:Brian Baker
ATTACH;FMTTYPE="image/jpeg":
ATTENDEE;ROLE=REQ-PARTICIPANT;PARTSTAT=ACCEPTED;RSVP=TRUE;CN="Joshua E
 . Sigman":https://northeastwheelsevents.com/profile/JoshuaESigman
END:VEVENT
END:VCALENDAR
