BEGIN:VCALENDAR
PRODID:NingEventWidget-v1
VERSION:2.0
METHOD:PUBLISH
BEGIN:VEVENT
UID:5167423:Event:180993
DTSTAMP:20260422T105303Z
SUMMARY:June Vintage Motorcar Series Event
DESCRIPTION:Saturday, June 16, 2018, New Britain, Connecticut\nVintage
  Motorcar Series at Klingberg Family Centers, 370 Linwood Street, 9:00
  AM – 2:00pm. Featuring a traditional antique car show and a Concour
 s d’Elegance of rarely seen, pre-war automobiles. Autism Families CT
  will be partnering with us on this event to raise awareness of autism
  and services for children on the spectrum.\nSpectator admission $10.0
 0; Seniors 65 and over $8.00; Children 12 and under free. Proceeds ben
 efit Klingberg Family Centers’ programs serving children and familie
 s across Connecticut. Spectator parking is at the New Britain Bees Sta
 dium at Willow Brook Park. For more information, directions, and weath
 er-related updates visit www.KlingbergMotorcarSeries.org.\n\nFor more 
 information visit https://northeastwheelsevents.com/events/june-vintag
 e-motorcar-series-event
DTSTART:20180616T130000Z
DTEND:20180616T180000Z
CATEGORIES:fundraiser
LOCATION:Klingberg Family Centers
WEBSITE:https://klingbergmotorcarseries.org
URL:https://klingbergmotorcarseries.org
CONTACT:
ORGANIZER:Klingberg Family Centers
ATTACH;FMTTYPE="image/jpeg":http://storage.ning.com/topology/rest/1.0/
 file/get/2284102062?profile=original
ATTENDEE;ROLE=REQ-PARTICIPANT;PARTSTAT=ACCEPTED;RSVP=TRUE;CN="Aimee Bu
 sh":https://northeastwheelsevents.com/profile/AimeeBush
END:VEVENT
END:VCALENDAR
