BEGIN:VCALENDAR
PRODID:NingEventWidget-v1
VERSION:2.0
METHOD:PUBLISH
BEGIN:VEVENT
UID:5167423:Event:60190
DTSTAMP:20260423T003124Z
SUMMARY:Just for Fun Car Show
DESCRIPTION:This is just a fun show to end the 2014 season. It gonna b
 e cold but dont let that stop you. One last chance to get that hot rid
 e out for the year and hang with some friends before the ugly white st
 uff starts.\n\nHere are the classes \n\n\"Best of Show\"\n10 - \"Top 
 10 Award\" Trophies\nOne each for \"Fun Classes\"\nBest carBest Motorc
 ycleBest Truck/ 4x4Best R/C CrawlerBest R/C StreetMost Pockets Emptied
 \"Most Creative BuildWildest Paint/ GraphicsMost Likely to Get Impound
 edBiggest head TurnerBest Built on a BudgetWhite Knuckle RideMost Uniq
 ue Mod\n\n\nFor more information visit https://northeastwheelsevents.c
 om/events/just-for-fun-car-show
DTSTART:20141109T150000Z
DTEND:20141109T190000Z
CATEGORIES:car, show, fund, raiser
LOCATION:Carmike Cinemas 12
WEBSITE:
URL:
CONTACT:484-944-4734
ORGANIZER;CN="Wicked Effects Car Club":https://northeastwheelsevents.c
 om/profile/WickedEffectsCarClub
ATTACH;FMTTYPE="image/jpeg":http://storage.ning.com/topology/rest/1.0/
 file/get/2284064032?profile=original
ATTENDEE;ROLE=REQ-PARTICIPANT;PARTSTAT=ACCEPTED;RSVP=TRUE;CN="Wicked E
 ffects Car Club":https://northeastwheelsevents.com/profile/WickedEffec
 tsCarClub
END:VEVENT
END:VCALENDAR
