BEGIN:VCALENDAR
PRODID:NingEventWidget-v1
VERSION:2.0
METHOD:PUBLISH
BEGIN:VEVENT
UID:5167423:Event:161773
DTSTAMP:20260425T172436Z
SUMMARY:Kaska Fire Co.
DESCRIPTION:Carshow and Chinese auction\n\nFor more information visit 
 https://northeastwheelsevents.com/events/kaska-fire-co
DTSTART:20170923T170000Z
DTEND:20170923T230000Z
CATEGORIES:fundraiser
LOCATION:Kaska pa 17959
WEBSITE:
URL:
CONTACT:570-449-2171
ORGANIZER;CN="Adam j nothstein":https://northeastwheelsevents.com/prof
 ile/Adamjnothstein
ATTACH;FMTTYPE="image/jpeg":
ATTENDEE;ROLE=REQ-PARTICIPANT;PARTSTAT=ACCEPTED;RSVP=TRUE;CN="Adam j n
 othstein":https://northeastwheelsevents.com/profile/Adamjnothstein
END:VEVENT
END:VCALENDAR
