BEGIN:VCALENDAR
PRODID:NingEventWidget-v1
VERSION:2.0
METHOD:PUBLISH
BEGIN:VEVENT
UID:5167423:Event:63641
DTSTAMP:20260422T235545Z
SUMMARY:keelersville club having valve cover racing
DESCRIPTION:1/24/15 valve cover racing then a sock hop , come join the
  fun\n\nFor more information visit https://northeastwheelsevents.com/e
 vents/keelersville-club-having-valve-cover-racing
DTSTART:20150124T190000Z
DTEND:20150125T000000Z
CATEGORIES:intertainment
LOCATION:2522 ridge rd perkasie pa 18944
WEBSITE:
URL:
CONTACT:
ORGANIZER;CN="GASKET GOONS PA.":https://northeastwheelsevents.com/prof
 ile/GASKETGOONSPA
ATTACH;FMTTYPE="image/jpeg":http://storage.ning.com/topology/rest/1.0/
 file/get/2284065260?profile=original
ATTENDEE;ROLE=REQ-PARTICIPANT;PARTSTAT=ACCEPTED;RSVP=TRUE;CN="GASKET G
 OONS PA.":https://northeastwheelsevents.com/profile/GASKETGOONSPA
END:VEVENT
END:VCALENDAR
