BEGIN:VCALENDAR
PRODID:NingEventWidget-v1
VERSION:2.0
METHOD:PUBLISH
BEGIN:VEVENT
UID:5167423:Event:350128
DTSTAMP:20260424T144245Z
SUMMARY:Kelly Cadillac &amp; Valley Forge Region Cadillac &amp; La Sal
 le Club
DESCRIPTION:Open to ALL MAKES AND MODELS.  Pre-registration $15.00 da
 y of show $20.00, Awards, Door prizes and Food Truck\n\nFor more infor
 mation visit https://northeastwheelsevents.com/events/kelly-cadillac-a
 mp-valley-forge-region-cadillac-amp-la-salle-club
DTSTART:20260627T140000Z
DTEND:20260627T180000Z
CATEGORIES:car, show
LOCATION:Kelly Cadillac
WEBSITE:http://www.vfrclc.org
URL:http://www.vfrclc.org
CONTACT:
ORGANIZER;CN="Michael Marchese":https://northeastwheelsevents.com/prof
 ile/MichaelMarchese737
ATTACH;FMTTYPE="image/jpeg":https://storage.ning.com/topology/rest/1.0
 /file/get/31135349871?profile=original
ATTENDEE;ROLE=REQ-PARTICIPANT;PARTSTAT=ACCEPTED;RSVP=TRUE;CN="Michael 
 Marchese":https://northeastwheelsevents.com/profile/MichaelMarchese737
END:VEVENT
END:VCALENDAR
