BEGIN:VCALENDAR
PRODID:NingEventWidget-v1
VERSION:2.0
METHOD:PUBLISH
BEGIN:VEVENT
UID:5167423:Event:143576
DTSTAMP:20260419T114605Z
SUMMARY:KENNY WALLACE DRIVING EXPERIENCE
DESCRIPTION:\n SCHEDULE SUBJECT TO CHANGE\n\nFor more information vis
 it https://northeastwheelsevents.com/events/kenny-wallace-driving-expe
 rience
DTSTART:20170401T140000Z
DTEND:20170401T200000Z
CATEGORIES:race
LOCATION:Delaware Intl Speedway
WEBSITE:http://delawareracing.com/DirtTrack/
URL:http://delawareracing.com/DirtTrack/
CONTACT:302-846-3968
ORGANIZER:
ATTACH;FMTTYPE="image/jpeg":http://storage.ning.com/topology/rest/1.0/
 file/get/2284096819?profile=original
ATTENDEE;ROLE=REQ-PARTICIPANT;PARTSTAT=ACCEPTED;RSVP=TRUE;CN="Christop
 her Gosney":https://northeastwheelsevents.com/profile/ChristopherGosne
 y
END:VEVENT
END:VCALENDAR
