BEGIN:VCALENDAR
PRODID:NingEventWidget-v1
VERSION:2.0
METHOD:PUBLISH
BEGIN:VEVENT
UID:5167423:Event:101510
DTSTAMP:20260425T173011Z
SUMMARY:Kent Island Cruisers \"ALL CLUBS BREAKFAST\" Meeting
DESCRIPTION:Kent Island Cruisers Car Club 2016 “All Clubs” Breakfa
 st Meeting\nNOTE: Membership in a club not required for you to attend\
 nALL Car “Nuts” are welcome to attend, and bring out the old rides
  if the weather is right! There is always a lot of information to be h
 ad at this breakfast.\nWhen: Saturday, Feb 13, 2016\nWhere: Kent Islan
 d Vol. Fire Dept. 1610 Main St. Chester, Md. 21619\nTime: 8:00am Break
 fast, 9:00am meeting\nCost: $10.00 per person (eating or not)\nMenu: S
 crambled Eggs, Pancakes, Bacon, Sausage, Coffee, OJ and more.\n(Food b
 eing prepared by KIVFD Ladies Aux., all proceeds benefits the KIVFD La
 dies Aux.)\nTopic: 2016 Events for our area, and other topics related 
 to our hobby. Bring your flyers! There will also be a 50/50 raffle, an
 d door prizes.\nNOTE: A member from each club, group or organization i
 s invited to speak for a few minutes on their 2016 events. (Bring Your
  Show or Event Flyers to share!)\nL@@K: Please RSVP with the number & 
 name(s) of people and payment for each person by FEB. 1, 2016.\nEMAIL 
 bchevy7@yahoo.com  for a show flyer & RSVP information, or if you hav
 e questions\nHOPE TO SEE YOU THERE!\nAll proceeds go directly to the K
 IVFD Ladies Auxiliary\n*Membership in a club is not required in order 
 to attend!\n**RSVP with payment is required to attend, we must have a 
 head count for the food.\n\nFor more information visit https://northea
 stwheelsevents.com/events/kent-island-cruisers-all-clubs-breakfast-mee
 ting
DTSTART:20160213T130000Z
DTEND:20160213T170000Z
CATEGORIES:car, show, information
LOCATION:Kent Island Vol. Fire Dept.
WEBSITE:http://www.kentislandcruisers.com
URL:http://www.kentislandcruisers.com
CONTACT:EMAIL
ORGANIZER:bchevy7@yahoo.com
ATTACH;FMTTYPE="image/jpeg":http://storage.ning.com/topology/rest/1.0/
 file/get/2284079636?profile=original
ATTENDEE;ROLE=REQ-PARTICIPANT;PARTSTAT=ACCEPTED;RSVP=TRUE;CN=B:https:/
 /northeastwheelsevents.com/profile/B
END:VEVENT
END:VCALENDAR
