BEGIN:VCALENDAR
PRODID:NingEventWidget-v1
VERSION:2.0
METHOD:PUBLISH
BEGIN:VEVENT
UID:5167423:Event:157711
DTSTAMP:20260425T074226Z
SUMMARY:Keystone CARnival
DESCRIPTION:Come join us for the eleventh annual Keystone CARnival in 
 scenic Lancaster County, Pennsylvania. \n\nThis is a (primarily) 1/64
  diecast car toy show.  In addition to vendors, we have gravity racin
 g and banger racing (lots of 1/64 CARnage!).\n\nFor more information v
 isit https://northeastwheelsevents.com/events/keystone-carnival
DTSTART:20180407T130000Z
DTEND:20180407T210000Z
CATEGORIES:toy, show
LOCATION:Comfort Inn
WEBSITE:http://swiftysgarage.net/forum/7952/
URL:http://swiftysgarage.net/forum/7952/
CONTACT:
ORGANIZER;CN="Swifty's Garage":https://northeastwheelsevents.com/profi
 le/SwiftysGarage
ATTACH;FMTTYPE="image/jpeg":
ATTENDEE;ROLE=REQ-PARTICIPANT;PARTSTAT=ACCEPTED;RSVP=TRUE;CN="Swifty's
  Garage":https://northeastwheelsevents.com/profile/SwiftysGarage
ATTENDEE;ROLE=REQ-PARTICIPANT;PARTSTAT=TENTATIVE;RSVP=TRUE;CN="Barry R
 eitz":https://northeastwheelsevents.com/profile/BarryReitz
END:VEVENT
END:VCALENDAR
