BEGIN:VCALENDAR
PRODID:NingEventWidget-v1
VERSION:2.0
METHOD:PUBLISH
BEGIN:VEVENT
UID:5167423:Event:20499
DTSTAMP:20260422T001306Z
SUMMARY:Keystone Country Cruisin' Vehicle Show
DESCRIPTION:\n\nFor more information visit https://northeastwheelseven
 ts.com/events/keystone-country-cruisin-vehicle-show
DTSTART:20130705T120000Z
DTEND:20130707T230000Z
CATEGORIES:vehicle, show
LOCATION:Huntingdon County Fairgrounds
WEBSITE:http://www.TNTS1.com
URL:http://www.TNTS1.com
CONTACT:717 248-2278
ORGANIZER:Tom Shirey
ATTACH;FMTTYPE="image/jpeg":http://storage.ning.com/topology/rest/1.0/
 file/get/2284049329?profile=original
ATTENDEE;ROLE=REQ-PARTICIPANT;PARTSTAT=ACCEPTED;RSVP=TRUE;CN="Pamela H
 irschhorn":https://northeastwheelsevents.com/profile/PamelaHirschhorn
END:VEVENT
END:VCALENDAR
