BEGIN:VCALENDAR
PRODID:NingEventWidget-v1
VERSION:2.0
METHOD:PUBLISH
BEGIN:VEVENT
UID:5167423:Event:265233
DTSTAMP:20260425T185145Z
SUMMARY:National Drive Electric Week Fayetteville, NC
DESCRIPTION:Join us for an electric vehicle driving experience!Electri
 c Car models! Kids Zone, Food Trucks, Test Drives and Door Prizes!!  S
 ign up for a test drive at : http://bit.do/SSHTestDrive2020 Attention 
 EV Owners:Space for the car show is limited. YOU MUST REGISTER ON THE 
 TICKET WEBSITE! Register to participate and be entered to win $250 at 
 https://driveelectricweek.org/event.php?eventid=2250.  Volunteers need
 ed !!! Register at https://driveelectricweek.org/event.php?eventid=225
 0 or contact Kia Jones at kia@sustainablesandhills.org for more inform
 ation. Thanks to our amazing sponsors for supporting us!!!.  Transport
 ation & Local History Museum Cool Springs Fayetteville  PWC  Fayettevi
 lle Area Metropolitan Planning Organization (FAMPO)\n\nFor more inform
 ation visit https://northeastwheelsevents.com/events/kia-jones
DTSTART:20201003T150000Z
DTEND:20201003T190000Z
CATEGORIES:sustainable, sandhills, drive, electric, car, show
LOCATION:Transportation &amp; Local History Museum
WEBSITE:https://driveelectricweek.org/event?eventid=2250
URL:https://driveelectricweek.org/event?eventid=2250
CONTACT:(910) 484-9098
ORGANIZER;CN="Kia Jones":https://northeastwheelsevents.com/profile/Kia
 Jones
ATTACH;FMTTYPE="image/jpeg":
ATTENDEE;ROLE=REQ-PARTICIPANT;PARTSTAT=ACCEPTED;RSVP=TRUE;CN="Kia Jone
 s":https://northeastwheelsevents.com/profile/KiaJones
END:VEVENT
END:VCALENDAR
