BEGIN:VCALENDAR
PRODID:NingEventWidget-v1
VERSION:2.0
METHOD:PUBLISH
BEGIN:VEVENT
UID:5167423:Event:345202
DTSTAMP:20260423T164211Z
SUMMARY:Kickin' Country Car, Truck and Tractor Show, Woodbury, CT
DESCRIPTION:\r\nConnecticut Kickin' Country Car, Truck and Tractor Sho
 w Nonnewaug High School Parking Lot, 5 Minor Town Rd, Woodbury, CT 10:
 00am to 3:00pm. Rain Date: 0ctober 12, 2025 Food Trucks, Vendors, Craf
 t Booths, Trophies, Door Prizes, Raffles and Entertainment $10 show ca
 rs, $5 Spectators, Age 10 and under are free Trailering to the show? P
 lease arrive before 9am. Benefiting the Woodbury FFA, Friends, Family 
 and Alumni Association and the Nonnewaug Agriscience Program. For more
  information, please call 475-243 [ email ]lease call or email for ve
 ndor information. Thank you for your support\r\n\r\nWhen: October 5, 
 2025 10:00am - 3:00pm\r\n\r\nLocation:\r\nNonnewaug High School Parkin
 g Lot, 5 Minor Town Rd, Woodbury, CT\r\nWoodbury, CT 06798\r\n\r\nCost
 : $10 show cars, $5 Spectators\r\nTo Register: call Woodbury FFA at 
 1-475-243-3851 or e-mail us.\n\nFor more information visit https://n
 ortheastwheelsevents.com/events/kickin-country-car-truck-and-tractor-s
 how-woodbury-ct
DTSTART:20251005T140000Z
DTEND:20251005T190000Z
CATEGORIES:carshow, benefit
LOCATION:Nonnewaug High School Parking Lot,
WEBSITE:https://www.hemmings.com/events/detail?listing_id=65379
URL:https://www.hemmings.com/events/detail?listing_id=65379
CONTACT:475-243-3851
ORGANIZER:Woodbury FFA
ATTACH;FMTTYPE="image/jpeg":https://storage.ning.com/topology/rest/1.0
 /file/get/13727878892?profile=original
ATTENDEE;ROLE=REQ-PARTICIPANT;PARTSTAT=ACCEPTED;RSVP=TRUE;CN="William 
 Bruce":https://northeastwheelsevents.com/profile/WilliamBruce
END:VEVENT
END:VCALENDAR
