BEGIN:VCALENDAR
PRODID:NingEventWidget-v1
VERSION:2.0
METHOD:PUBLISH
BEGIN:VEVENT
UID:5167423:Event:111748
DTSTAMP:20260424T161550Z
SUMMARY:King Of Prussia - All Mopar Cruise In
DESCRIPTION:ALL Mopar, ALL Models, All Years are Welcome, Come on out 
 and meet other Mopar fans. Thinking of modifying your car? Or show us 
 your latest Modification, It's all about the passion.\n\nLast KOP Crui
 se in of the year, Check out our other Mopar Cruise in's, only a short
  drive away.\n\nPhiladelphia,\nLehigh Valley,\nReading,\nStroudsburg,\
 nWilkes barre,\nHarrisburg,\nMifflinburg,\nYork,\nLititz,\nPalmyra,\n\
 nwww.PaModernMopar.com\n\n\nFor more information visit https://northea
 stwheelsevents.com/events/king-of-prussia-all-mopar-cruise-in-6
DTSTART:20161105T180000Z
DTEND:20161105T220000Z
CATEGORIES:cruise, in
LOCATION:The Tilted Kilt Pub & Eatery
WEBSITE:http://www.pamodernmopar.com
URL:http://www.pamodernmopar.com
CONTACT:717-602-5931
ORGANIZER;CN="Mike brown":https://northeastwheelsevents.com/profile/Mi
 keBrown
ATTACH;FMTTYPE="image/jpeg":http://storage.ning.com/topology/rest/1.0/
 file/get/2284084529?profile=original
ATTENDEE;ROLE=REQ-PARTICIPANT;PARTSTAT=ACCEPTED;RSVP=TRUE;CN="Mike bro
 wn":https://northeastwheelsevents.com/profile/MikeBrown
END:VEVENT
END:VCALENDAR
