BEGIN:VCALENDAR
PRODID:NingEventWidget-v1
VERSION:2.0
METHOD:PUBLISH
BEGIN:VEVENT
UID:5167423:Event:22998
DTSTAMP:20260423T135517Z
SUMMARY:Klingberg Auto Show
DESCRIPTION:All spectator parking is free and located at the Rock Cats
  Stadium at Willow Brook Park(including Handicapped). Enjoy the conven
 ient shuttle compliments of DATTCO.\nShow hours: 9:30 – 3:00pm. Gene
 ral Admission $10; /Seniors 65 and older $8; Children 12 and younger f
 ree\nAntique auto admission: $10 for car, driver and one passenger. Pr
 e-war(1940) original condition: free\nAdmire hundreds of antique and c
 lassic cars spanning decades of automotive history, all on our picture
 sque 40-achre hilltop campus.\nSeveral new features will make this sho
 w particularly exciting. First of all, we will be featuring the car co
 llection of an old friend, Jerry Lettieri. From a vintage MG to an All
 ard, both with racing histories, his collection is something you will 
 not want to miss.\nIn addition, we will have some of the very early Co
 nnecticut-made automobiles such as the Columbia, Pope-Hartford and Cor
 bin  and steam automobiles.\nThis is an event for the whole family. F
 eaturing an exciting new variety of activities for children to enjoy, 
 along with great food, including Avery’s Old-fashioned Soda in colle
 ctible bottles.\nWe are proud to announce Wayne Carini of Velocity’s
  “Chasing Classic Cars” and his dad, Bob Carini, have agreed to se
 rve as Grand Marshals of our 2013 Vintage Motorcar Festival. It was gr
 eat to have Wayne and his dad share this honor for the past two years 
 in recognition of Father’s Day and the importance of families. We ar
 e delighted they will be joining us on June 15th.\nAn episode of Chasi
 ng Classic Cars, produced by Essex Television Group, was filmed at the
  2011 Klingberg Vintage Motorcar Festival and premiered December 6, 20
 11.\nWayne’s passion for cars started when he was a child working al
 ongside his dad on such classics as Duesenbergs, Lincolns, Packards an
 d Ford Model A’s. Then, at just 9 years of age, he experienced a lif
 e altering event: he went for a ride in his first Ferrari. This set hi
 m on a career journey dealing with all types of vintage automobile col
 lectors throughout the world.\nNow in its fourth season, Chasing Clas
 sic Cars offers the viewer a look into Wayne’s circle of clients as
  he searches out and uncovers the world’s most rare and exotic cars.
  Chasing Classic Cars introduces the viewer to the world of car rest
 orers and collectors as Wayne buys, restores and sells vintage automob
 iles.\n\nFor more information visit https://northeastwheelsevents.com/
 events/klingberg-auto-show
DTSTART:20130615T133000Z
DTEND:20130615T190000Z
CATEGORIES:car, show, and, concourse
LOCATION:New Britain, Ct
WEBSITE:http://klingbergautoshow.org/
URL:http://klingbergautoshow.org/
CONTACT:
ORGANIZER:Klingbergautoshow.org
ATTACH;FMTTYPE="image/jpeg":http://storage.ning.com/topology/rest/1.0/
 file/get/2284050728?profile=original
ATTENDEE;ROLE=REQ-PARTICIPANT;PARTSTAT=ACCEPTED;RSVP=TRUE;CN="Pamela H
 irschhorn":https://northeastwheelsevents.com/profile/PamelaHirschhorn
END:VEVENT
END:VCALENDAR
