BEGIN:VCALENDAR
PRODID:NingEventWidget-v1
VERSION:2.0
METHOD:PUBLISH
BEGIN:VEVENT
UID:5167423:Event:242248
DTSTAMP:20260422T044406Z
SUMMARY:Klingberg Motorcar Series May 2019
DESCRIPTION:Saturday, May 18, 2019, New Britain, Connecticut\nVintage 
 Motorcar Series Show at Klingberg Family Centers, 370 Linwood Street, 
 9:00 AM – 12:00 noon. Cars 1979 and earlier are welcome. Trophies wi
 ll be awarded at 11:30. Activities for all ages include a photo scaven
 ger hunt and a hands-on display of cars. Toasted food truck will be on
  hand with breakfast. Other attractions include the Klingberg History 
 Museum and the Klingberg Vintage Motorcar Series Hall of Honor.\nThis 
 month: Enjoy a special display of rare vintage trucks and tour the new
 , state-of-the-art Klingberg Nexus Professional Development Center.\nS
 pectator admission $10.00; Seniors 65 and over $8.00; Children 12 and 
 under free. All proceeds benefit Klingberg Family Centers’ programs 
 serving children and families across Connecticut. For more information
 , directions, and weather-related updates visit www.KlingbergMotorcarS
 eries.org.\n\nFor more information visit https://northeastwheelsevents
 .com/events/klingberg-motorcar-series-may-2019
DTSTART:20190518T130000Z
DTEND:20190518T160000Z
CATEGORIES:fundraiser
LOCATION:Klingberg Family Centers
WEBSITE:https://klingbergmotorcarseries.org
URL:https://klingbergmotorcarseries.org
CONTACT:8608325524
ORGANIZER:Mark Johnson
ATTACH;FMTTYPE="image/jpeg":
ATTENDEE;ROLE=REQ-PARTICIPANT;PARTSTAT=ACCEPTED;RSVP=TRUE;CN="Aimee Bu
 sh":https://northeastwheelsevents.com/profile/AimeeBush
END:VEVENT
END:VCALENDAR
