BEGIN:VCALENDAR
PRODID:NingEventWidget-v1
VERSION:2.0
METHOD:PUBLISH
BEGIN:VEVENT
UID:5167423:Event:263627
DTSTAMP:20260425T214820Z
SUMMARY:Klingberg Vintage Motorcar Series Sept 2020
DESCRIPTION:Klingberg Motorcar Series has considered all COVID-related
  recommendations and created a very safe, fun event for antique car ow
 ners and spectators alike.\n\nAll antique cars will arrive and be guid
 ed into display areas throughout the campus, with Pre-war Concours aut
 omobiles gathered into one area. We will arrange all show cars with ex
 tra space between them for safety and so they can be appreciated by th
 e spectators driving through. Show car entrance opens at 8:00 AM.\n\nV
 isitors will drive their own cars along a special spectator car travel
  lane winding through every field and parking lot of show cars, so no 
 car will be missed. Spectators can enjoy the approximately 20-minute d
 rive, an adventure in automotive history, and the beautiful autumn vis
 ta from the hilltop. (For the safety of all, there will be no spectato
 rs walking in or exiting their cars.)\n\nThis year: no entrance fees f
 or car owners or spectators to avoid the exchange of credit cards and 
 cash. However, there will be opportunity and encouragement to make a d
 onation. All proceeds will go directly to fund Klingberg programs serv
 ing families dealing with trauma, especially families that have been h
 it hard during this difficult time.\n\nAll sponsors will be recognized
  with signs along the spectator route so all in attendance can see the
 ir generosity. Naturally, there will be larger signs for high-level sp
 onsors as well as special displays along the route for all spectators 
 to see. Platinum, Gold, and Palladium sponsors can register to ride th
 rough the Motorcar Event in an antique convertible or open automobile.
 \n\nFor more information visit https://northeastwheelsevents.com/event
 s/klingberg-vintage-motorcar-series-sept-2020
DTSTART:20200926T130000Z
DTEND:20200926T180000Z
CATEGORIES:fundraiser
LOCATION:Klingberg Family Centers
WEBSITE:https://klingbergmotorcarseries.org
URL:https://klingbergmotorcarseries.org
CONTACT:8608325524
ORGANIZER;CN="Aimee Bush":https://northeastwheelsevents.com/profile/Ai
 meeBush
ATTACH;FMTTYPE="image/jpeg":
ATTENDEE;ROLE=REQ-PARTICIPANT;PARTSTAT=ACCEPTED;RSVP=TRUE;CN="Aimee Bu
 sh":https://northeastwheelsevents.com/profile/AimeeBush
END:VEVENT
END:VCALENDAR
