BEGIN:VCALENDAR
PRODID:NingEventWidget-v1
VERSION:2.0
METHOD:PUBLISH
BEGIN:VEVENT
UID:5167423:Event:319057
DTSTAMP:20260422T155112Z
SUMMARY:Knights of Columbus 10th Annual Car Show
DESCRIPTION:Join us for our 10th anniversary show!  Supports our ongo
 ing Knights of Columbus Charity Work.  Music, food, door prizes, many
  trophies and a fun time.  This year we are also celebrating the pari
 sh's 60th Anniversary!\n\nFor more information visit https://northeast
 wheelsevents.com/events/knights-of-columbus-10th-annual-car-show
DTSTART:20230909T140000Z
DTEND:20230909T170000Z
CATEGORIES:car, show
LOCATION:St Catherine of Siena Church
WEBSITE:
URL:
CONTACT:7175866335
ORGANIZER;CN="Anthony Gray":https://northeastwheelsevents.com/profile/
 AnthonyGray
ATTACH;FMTTYPE="image/jpeg":https://storage.ning.com/topology/rest/1.0
 /file/get/12201601693?profile=original
ATTENDEE;ROLE=REQ-PARTICIPANT;PARTSTAT=ACCEPTED;RSVP=TRUE;CN="Anthony 
 Gray":https://northeastwheelsevents.com/profile/AnthonyGray
END:VEVENT
END:VCALENDAR
