BEGIN:VCALENDAR
PRODID:NingEventWidget-v1
VERSION:2.0
METHOD:PUBLISH
BEGIN:VEVENT
UID:5167423:Event:174560
DTSTAMP:20260425T122622Z
SUMMARY:Kundratic Motorcycle &amp; Hot Rod Swap Meet
DESCRIPTION:BUY, SELLÂ  or SWAP!\nFREE Admission & FREE Parking\nÂ \nH
 ave you seen the Swap Meet video?Â  Check it out here:\nhttp://www.you
 tube.com/watch?v=OLihPeGXvLY&feature=plcp\nÂ \nThe areas only traditio
 nal old school swap meet with just motorcycle & hot rod parts.Â  No je
 welry & leather vendors, insurance agencies, crafts, peek-a-boo dollsâ
 €¦..none of the shit you usually just walk by!\nÂ \nTons of vendors wi
 ll be buying, selling and swapping used parts, vintage parts, new part
 s, hard to find parts, fenders, tanks, frames, accessories, chrome, st
 eel and everything in between! Pickup parts for your hot rod, rat rod,
  bagger, bobber, cafÃ© racer, chopper or drag bike.Â  This isnâ€™t jus
 t for Harleyâ€™s folks!Â \nÂ \nRegistration is $25 per 10x10 space - f
 irst come, first served. This is a drizzle or shine event, remember to
  bring your pop-up tent.Â  As always, itâ€™s FREE to come and shop plu
 s lots of FREE parking.Â \nÂ \nCall us or stop by the shop to reserve 
 your space today. 410.633.3113\nPayments accepted:\nVisa/MC\nDiscover\
 nAmEx\nCash\nPaypal to info@kundratickustoms.comÂ Â  -Â  Please refer 
 to Swap Meet so we can send you your space number.\n\nFor more informa
 tion visit https://northeastwheelsevents.com/events/kundratic-motorcyc
 le-amp-hot-rod-swap-meet
DTSTART:20180408T130000Z
DTEND:20180408T190000Z
CATEGORIES:swap, meet
LOCATION:Kundratic Kustom Motorcycles
WEBSITE:http://www.kundratickustoms.com
URL:http://www.kundratickustoms.com
CONTACT:4106333113
ORGANIZER;CN="brian kundratic":https://northeastwheelsevents.com/profi
 le/briankundratic
ATTACH;FMTTYPE="image/jpeg":http://storage.ning.com/topology/rest/1.0/
 file/get/2284102111?profile=original
ATTENDEE;ROLE=REQ-PARTICIPANT;PARTSTAT=ACCEPTED;RSVP=TRUE;CN="brian ku
 ndratic":https://northeastwheelsevents.com/profile/briankundratic
END:VEVENT
END:VCALENDAR
