BEGIN:VCALENDAR
PRODID:NingEventWidget-v1
VERSION:2.0
METHOD:PUBLISH
BEGIN:VEVENT
UID:5167423:Event:243505
DTSTAMP:20260422T213822Z
SUMMARY:Lake Lenape Jamboree Car Show
DESCRIPTION:Come join us for our 26th Annual Lake Lenape Jamboree Car 
 Show. There will be trophies, DJ, vendors, door prizes and 50/50. Dash
  plaques for the 1st 100 cars.  Registration starts 9AM-12PM Show star
 ts 12PM-3PM\nPlease go to our Facebook page to download the registrati
 on form under our events tab.\nhttps://www.facebook.com/GoodTimeMotorv
 ators/\nSee the registration form in the comments below.\n\nFor more i
 nformation visit https://northeastwheelsevents.com/events/lake-lenape-
 jamboree-car-show
DTSTART:20190526T160000Z
DTEND:20190526T190000Z
CATEGORIES:car, show
LOCATION:Lake Lenape Park
WEBSITE:https://www.facebook.com/events/217756422487191/
URL:https://www.facebook.com/events/217756422487191/
CONTACT:4845760504
ORGANIZER:Dennis Williams
ATTACH;FMTTYPE="image/jpeg":https://storage.ning.com/topology/rest/1.0
 /file/get/2130860686?profile=original
ATTENDEE;ROLE=REQ-PARTICIPANT;PARTSTAT=ACCEPTED;RSVP=TRUE;CN="Colleen 
 Williams":https://northeastwheelsevents.com/profile/ColleenWilliams
END:VEVENT
END:VCALENDAR
