BEGIN:VCALENDAR
PRODID:NingEventWidget-v1
VERSION:2.0
METHOD:PUBLISH
BEGIN:VEVENT
UID:5167423:Event:201662
DTSTAMP:20260425T153947Z
SUMMARY:Last Call: \"Fast Five\" Raffle Tickets
DESCRIPTION:September 26 is the last chance to purchase the Newport Ca
 r Museum’s $20 “Fast Five” Raffle tickets to help bring light in
 to the lives of young patients at Hasbro Children’s Hospital. Procee
 ds from sales go toward the purchase of mini electric cars that childr
 en use to drive to their cancer and other treatments.\n\nFirst prize i
 s a ride to lunch with the founders in the same Ford GT40 that is feat
 ured in the famous train heist scene of the “Fast Five” movie star
 ring Vin Diesel. That movie will be shown September 26 at 7 p.m. at Ne
 wport Car Museum where first-, second- and third-place winners will be
  announced.\n\nTo purchase, call 401-848-2277 or stop by 1947 West Mai
 n Rd. (Enter at Light), Portsmouth, R.I. 02871, www.newportcarmuseum.o
 rg\n\nFor more information visit https://northeastwheelsevents.com/eve
 nts/last-call-fast-five-raffle-tickets
DTSTART:20180926T230000Z
DTEND:20180927T010000Z
CATEGORIES:fundraiser
LOCATION:Newport Car Museum
WEBSITE:https://newportcarmuseum.org/
URL:https://newportcarmuseum.org/
CONTACT:4018482277
ORGANIZER:Newport Car Museum
ATTACH;FMTTYPE="image/jpeg":http://storage.ning.com/topology/rest/1.0/
 file/get/2284109987?profile=original
ATTENDEE;ROLE=REQ-PARTICIPANT;PARTSTAT=ACCEPTED;RSVP=TRUE;CN="Ryan B":
 https://northeastwheelsevents.com/profile/DrewM
END:VEVENT
END:VCALENDAR
