BEGIN:VCALENDAR
PRODID:NingEventWidget-v1
VERSION:2.0
METHOD:PUBLISH
BEGIN:VEVENT
UID:5167423:Event:92567
DTSTAMP:20260421T152334Z
SUMMARY:LCTI Open Class Car & Motorcycle Show
DESCRIPTION:Open Class Car Show -Motorcycles Welcome\n\nCar registrati
 on - $15.00\n\nFood - Games - Basket Auction\n\nFor more information v
 isit https://northeastwheelsevents.com/events/lcti-open-class-car-moto
 rcycle-show
DTSTART:20160521T120000Z
DTEND:20160521T180000Z
CATEGORIES:career, "&", technical, student, organization, funraiser
LOCATION:LCTI Lot #3
WEBSITE:http://lcti.org
URL:http://lcti.org
CONTACT:610-799-1459
ORGANIZER:Harry Mericle
ATTACH;FMTTYPE="image/jpeg":
ATTENDEE;ROLE=REQ-PARTICIPANT;PARTSTAT=ACCEPTED;RSVP=TRUE;CN="Mr. T":h
 ttps://northeastwheelsevents.com/profile/MrT
END:VEVENT
END:VCALENDAR
