BEGIN:VCALENDAR
PRODID:NingEventWidget-v1
VERSION:2.0
METHOD:PUBLISH
BEGIN:VEVENT
UID:5167423:Event:21262
DTSTAMP:20260423T030147Z
SUMMARY:Le Belle Macchine d'Europa
DESCRIPTION:Le Belle Macchine d'Europa\nFor the past 27 years, owners,
  dealers and manufacturers of exotic automobiles and motorcycles have 
 been gathering in the Pocono Mountains of Northeastern PA. \nThis is 
 the only event where owners of Ferraris, Maseratis,Lamborghinis and o
 ther European  High Performance “macchine” meet for three days b
 eginning on June 22, 2013\nActivities include a Concorso d’Eleganza,
  two days of high speed driving at Pocono Raceway directed by the Empi
 re State Ferrari Club, a regional area Tour organized by Mid-Atlantic 
 Lamborghinis, a slalom organized by Jaguar Clubs North America with di
 splays from various dealers and manufacturers.\n\nFor more information
  visit https://northeastwheelsevents.com/events/le-belle-macchine-d-eu
 ropa
DTSTART:20130621T190000Z
DTEND:20130624T210000Z
CATEGORIES:concourse, and, track, time
LOCATION:Pocono International Raceway
WEBSITE:http://www.italiancarevents.com/
URL:http://www.italiancarevents.com/
CONTACT:717 889-5874
ORGANIZER:Italian Cars,Inc
ATTACH;FMTTYPE="image/jpeg":http://storage.ning.com/topology/rest/1.0/
 file/get/2284050045?profile=original
ATTENDEE;ROLE=REQ-PARTICIPANT;PARTSTAT=ACCEPTED;RSVP=TRUE;CN="Pamela H
 irschhorn":https://northeastwheelsevents.com/profile/PamelaHirschhorn
END:VEVENT
END:VCALENDAR
