BEGIN:VCALENDAR
PRODID:NingEventWidget-v1
VERSION:2.0
METHOD:PUBLISH
BEGIN:VEVENT
UID:5167423:Event:38505
DTSTAMP:20260423T074245Z
SUMMARY:Lead Scene East Rod & Custom Show
DESCRIPTION:June 13-15, Lead Scene East Rod & Custom Show held at Oaks
 ide Community Park, 2880 Table Rock Rd, Biglerville, PA 17307 (7 miles
  north of Gettysburg). Show hours are Friday 9 AM to 5 PM, Saturday 9 
 AM to 11 PM, and Sunday 9 AM to 12 noon.  Admission is $5 for Adults,
   children 14 & under are FREE when accompanied by an adult.  The Or
 iginal Hot Rod Lincoln & 702 cu in 1931 V-12 Bugatti Royale Kellner Co
 upe Street Rod are the 2 feature cars.  Cash Awards in All Classes, 
 \"Early Bird\" Pre-registration package, One Day Saturday pass availab
 le at show.  Swap Meet, Vendors, Live Entertainment Saturday.  Cont
 act Video Bob at MemoreeMaker@webtv.net or 757-587-0905.  For more 
 information on CASH drawings & giveaways, check out the website at w
 ww.LeadSceneEast.com \n\nFor more information visit https://northeast
 wheelsevents.com/events/lead-scene-east-rod-custom-show-1
DTSTART:20140613T040000Z
DTEND:20140616T035900Z
CATEGORIES:car, show
LOCATION:Oakside Community Park
WEBSITE:http://www.leadsceneeast.com
URL:http://www.leadsceneeast.com
CONTACT:7575870905
ORGANIZER:Video Bob & Oakside Community Park
ATTACH;FMTTYPE="image/jpeg":http://storage.ning.com/topology/rest/1.0/
 file/get/2284055665?profile=original
ATTENDEE;ROLE=REQ-PARTICIPANT;PARTSTAT=ACCEPTED;RSVP=TRUE;CN="Bob Huff
 ":https://northeastwheelsevents.com/profile/BobHuff
END:VEVENT
END:VCALENDAR
