BEGIN:VCALENDAR
PRODID:NingEventWidget-v1
VERSION:2.0
METHOD:PUBLISH
BEGIN:VEVENT
UID:5167423:Event:22224
DTSTAMP:20260424T081922Z
SUMMARY:Lead Scene East Rod & Custom Show
DESCRIPTION:$500 Best of Show, 2013 Feature Car Al Bailey's beautiful 
 1956 Cotton Candy Merc 3 time ISCA champion, cash awards in all classe
 s, top 20 cash awards, $25 per hour participant cash draw. Friday nigh
 t poker run with cash pay outs\n\nFor more information visit https://n
 ortheastwheelsevents.com/events/lead-scene-east-rod-custom-show
DTSTART:20130607T040000Z
DTEND:20130610T035900Z
CATEGORIES:car, show
LOCATION:Oakside Community Park, Biglerville, PA
WEBSITE:
URL:
CONTACT:717 677-7676
ORGANIZER:Video Bob and Oakside Community Park
ATTACH;FMTTYPE="image/jpeg":
ATTENDEE;ROLE=REQ-PARTICIPANT;PARTSTAT=ACCEPTED;RSVP=TRUE;CN="Pamela H
 irschhorn":https://northeastwheelsevents.com/profile/PamelaHirschhorn
END:VEVENT
END:VCALENDAR
