BEGIN:VCALENDAR
PRODID:NingEventWidget-v1
VERSION:2.0
METHOD:PUBLISH
BEGIN:VEVENT
UID:5167423:Event:64289
DTSTAMP:20260422T070446Z
SUMMARY:Leave Cystic Fibrosis In Our Dust Car Show
DESCRIPTION:Lethal Visions Camaro Club is hosting the 2nd annual cysti
 c fibrosis car show benefit. This year at a even bigger location, the 
 Bethlehem Steel Stack's. The event will have vendors, raffles, trophie
 s, food and drinks....this event is free to the spectators.. cars regi
 stering is $20 and vendor spots are $50..... any car truck or bike is 
 welcome to enter... please come join us for a great day of fun for a g
 reat cause. \n\nFor more information visit https://northeastwheelseve
 nts.com/events/leave-cystic-fibrosis-in-our-dust-car-show
DTSTART:20150712T150000Z
DTEND:20150712T200000Z
CATEGORIES:car, show
LOCATION:Bethlehem Steel Stacks
WEBSITE:http://www.cfcarshow.com
URL:http://www.cfcarshow.com
CONTACT:
ORGANIZER:Donald Deck President of Lethal Vision Camaro Club
ATTACH;FMTTYPE="image/jpeg":http://storage.ning.com/topology/rest/1.0/
 file/get/2284068768?profile=original
ATTENDEE;ROLE=REQ-PARTICIPANT;PARTSTAT=ACCEPTED;RSVP=TRUE;CN="Donald D
 eck":https://northeastwheelsevents.com/profile/DonaldDeck
END:VEVENT
END:VCALENDAR
