BEGIN:VCALENDAR
PRODID:NingEventWidget-v1
VERSION:2.0
METHOD:PUBLISH
BEGIN:VEVENT
UID:5167423:Event:310278
DTSTAMP:20260422T153009Z
SUMMARY:Leg Up Farm 7th Annual Car and Cycle Show
DESCRIPTION:Please join us for the 7th Annual Leg Up Farm Car and Cycl
 e Show.  Proceeds from this show support the life-changing therapy se
 rvices Leg Up Farm provides to children with special needs.  Each yea
 r this event pulls in approximately 200 vehicles.  Awards are given f
 or:  top 20 cars/trucks, top 5 cycles, director's choice, and kid's c
 hoice.  Dash plaques and goodie bags are given to the first 100 regis
 trants.  Tours and playground access are available throughout the eve
 nt.  Please note, no pop-up tents are allowed, but there is indoor ac
 cess as well as shaded outside areas (porch with seating and a pavilio
 n with additional seating). A food truck is also on-site for the event
 .\n\nRegistration is $15/vehicle.  No charge for spectators.\n\nFor m
 ore information visit https://northeastwheelsevents.com/events/leg-up-
 farm-7th-annual-car-and-cycle-show
DTSTART:20230708T130000Z
DTEND:20230708T180000Z
CATEGORIES:fundraiser
LOCATION:Leg Up Farm
WEBSITE:http://www.legupfarm.org
URL:http://www.legupfarm.org
CONTACT:717-266-9294
ORGANIZER;CN="Jennifer Hitz":https://northeastwheelsevents.com/profile
 /JenniferHitz
ATTACH;FMTTYPE="image/jpeg":https://storage.ning.com/topology/rest/1.0
 /file/get/10945229074?profile=original
ATTENDEE;ROLE=REQ-PARTICIPANT;PARTSTAT=ACCEPTED;RSVP=TRUE;CN="Jennifer
  Hitz":https://northeastwheelsevents.com/profile/JenniferHitz
END:VEVENT
END:VCALENDAR
