BEGIN:VCALENDAR
PRODID:NingEventWidget-v1
VERSION:2.0
METHOD:PUBLISH
BEGIN:VEVENT
UID:5167423:Event:77422
DTSTAMP:20260420T114917Z
SUMMARY:Legacy Camaro Club Bi-Weekly cruise in kickoff
DESCRIPTION:Please come out and join Legacy Camaro Club for an afterno
 on of good food, outdoor deck, awesome cars, trucks and motorcycles at
  our Bi-weekly cruise in kick off !! This cruise in will take place 2n
 d and 4th Sunday of every month (weather permitting) from 1:00p.m-5:00
 p.m\n\nFor more information visit https://northeastwheelsevents.com/ev
 ents/legacy-camaro-club-bi-weekly-cruise-in-kickoff
DTSTART:20150614T170000Z
DTEND:20150614T210000Z
CATEGORIES:cruise, in
LOCATION:Legacy Sports Bar & Grill
WEBSITE:http://www.legacycamaros.com
URL:http://www.legacycamaros.com
CONTACT:
ORGANIZER;CN="Donovan Sheppard":https://northeastwheelsevents.com/prof
 ile/DonovanSheppard
ATTACH;FMTTYPE="image/jpeg":http://storage.ning.com/topology/rest/1.0/
 file/get/2284072339?profile=original
ATTENDEE;ROLE=REQ-PARTICIPANT;PARTSTAT=ACCEPTED;RSVP=TRUE;CN="Donovan 
 Sheppard":https://northeastwheelsevents.com/profile/DonovanSheppard
END:VEVENT
END:VCALENDAR
