BEGIN:VCALENDAR
PRODID:NingEventWidget-v1
VERSION:2.0
METHOD:PUBLISH
BEGIN:VEVENT
UID:5167423:Event:229102
DTSTAMP:20260421T130101Z
SUMMARY:Lemons Rally RETREAT FROM MOSCOW 2019 MOSCOW, PA TO LEEDS, AL
DESCRIPTION:\nDAY 1 (JAN 29):  MOSCOW, PA > PITTSBURGH, PA\nESTIMATED
 : 350-425 MILES\nSUGGESTED PRE-RALLY HOTEL: Sleep Inn & Suites, 102 Mo
 nahan Ave.; Dunmore, PA 18512LAUNCH SITE: 7-9 am @ AJ Auto Center, 120
 0 PA Hwy 435; Moscow, PASUGGESTED HOTEL: Doubletree Inn, 500 Mansfiel
 d Ave. Pittsburgh, PADAY-END MEET: Champions Bar @ Doubletree Inn\n\n\
 n\n\n\n\nDAY 2 (JAN 30):  PITTSBURGH, PA > LEXINGTON, KY\nESTIMATED: 
 370-500 MILES (DEPENDING ON YOUR LEVEL OF MASOCHISM)\nSUGGESTED HOTEL:
  Doubletree Suites @ 2601 Richmond Rd., Lexington, KYDAY-END MEET: Pat
 chen Pub @ 153 Patchen Dr. Suite 29 (Behind Waffle House, naturally)\n
 \n\n\n\n\n\nDAY 3 (JAN 31):  LEXINGTON, KY > NASHVILLE, TN\nESTIMATED
 : 250-360 MILES\nSPECIAL EVENT: “Concours” judging @ 3 pm –  La
 ne Motor Museum, 702 Murfreesboro Pike, Nashville, TNSUGGESTED HOTEL:
  Comfort Inn Downtown Nashville, 1501 Demonbreun St., Nashville, TNDAY
 -END MEET: Tin Roof, 1516 Demonbreun St., Nashville, TN\n\n\n\n\n\n\nD
 AY 4 (FEB 1):  NASHVILLE, TN > LEEDS, AL\nESTIMATED: 375-425 MILES\nF
 INISH LINE/AWARDS @ 5 PM(ish): Upper Paddock, Barber Motorsports Park 
 (Leeds, AL)SUGGESTED HOTEL: Free camping at Barber or find your own ac
 commodations, rally’s over suckas!\n\n\n\n\n\n\n\n\n\n\n\n\n\n\n(c) 
 2017 All Rights Reserved. QUESTIONS? Contact us\n\n\n\nFor more infor
 mation visit https://northeastwheelsevents.com/events/lemons-rally-ret
 reat-from-moscow-2019-moscow-pa-to-leeds-al
DTSTART:20190129T050000Z
DTEND:20190202T045900Z
CATEGORIES:rally
LOCATION:Moscow, PA to Leeds, TN
WEBSITE:https://24hoursoflemons.com/lemons-rally/retreat-from-moscow-2
 019/
URL:https://24hoursoflemons.com/lemons-rally/retreat-from-moscow-2019/
CONTACT:Eric Rood eric@24hoursoflemons.com
ORGANIZER:Lemons Rally
ATTACH;FMTTYPE="image/jpeg":https://storage.ning.com/topology/rest/1.0
 /file/get/493470580?profile=original
ATTENDEE;ROLE=REQ-PARTICIPANT;PARTSTAT=ACCEPTED;RSVP=TRUE;CN="Car Show
 s Little Helper":https://northeastwheelsevents.com/profile/CarShowsLit
 tleHelper
END:VEVENT
END:VCALENDAR
