BEGIN:VCALENDAR
PRODID:NingEventWidget-v1
VERSION:2.0
METHOD:PUBLISH
BEGIN:VEVENT
UID:5167423:Event:146389
DTSTAMP:20260423T033403Z
SUMMARY:Let's Go Cruiisin' Route 322
DESCRIPTION:Great Door Prizes, good sound system and inside Chinese au
 ction and much more.\n\nFor more information visit https://northeastwh
 eelsevents.com/events/let-s-go-cruiisin-route-322
DTSTART:20170702T130000Z
DTEND:20170702T190000Z
CATEGORIES:car, show
LOCATION:Campbelltown Fire Company Gounds
WEBSITE:
URL:
CONTACT:717-838-5839
ORGANIZER;CN=ken:https://northeastwheelsevents.com/profile/ken
ATTACH;FMTTYPE="image/jpeg":http://storage.ning.com/topology/rest/1.0/
 file/get/2284099486?profile=original
ATTENDEE;ROLE=REQ-PARTICIPANT;PARTSTAT=ACCEPTED;RSVP=TRUE;CN=ken:https
 ://northeastwheelsevents.com/profile/ken
END:VEVENT
END:VCALENDAR
