BEGIN:VCALENDAR
PRODID:NingEventWidget-v1
VERSION:2.0
METHOD:PUBLISH
BEGIN:VEVENT
UID:5167423:Event:66578
DTSTAMP:20260422T112834Z
SUMMARY:Let's Go Cruisin' Route 322
DESCRIPTION:   A fun car show with a Chinese auction, basket raffles
 , 50/50's, door prizes, dash plaques, sponsor awards, cash prizes, sp
 ecial cash drawing for pre-registered cars, good music along with an
  added sound system so people in the rear can hear better. The Centra
 l PA Blood Mobile will be on site and this show is held rain shine.\n\
 nFor more information visit https://northeastwheelsevents.com/events/l
 et-s-go-cruisin-route-322
DTSTART:20150705T130000Z
DTEND:20150705T190000Z
CATEGORIES:car, show
LOCATION:Campbelltown, Pa. Fire Company Grounds
WEBSITE:
URL:
CONTACT:Glen 717-838-5839
ORGANIZER:Country Cruisers of Lebanon County
ATTACH;FMTTYPE="image/jpeg":http://storage.ning.com/topology/rest/1.0/
 file/get/2284069068?profile=original
ATTENDEE;ROLE=REQ-PARTICIPANT;PARTSTAT=ACCEPTED;RSVP=TRUE;CN=ken:https
 ://northeastwheelsevents.com/profile/ken
END:VEVENT
END:VCALENDAR
