BEGIN:VCALENDAR
PRODID:NingEventWidget-v1
VERSION:2.0
METHOD:PUBLISH
BEGIN:VEVENT
UID:5167423:Event:767
DTSTAMP:20260423T180959Z
SUMMARY:Liberty Hose Red Bank Firefighter Car Show   Red Bank New Jers
 ey
DESCRIPTION:Liberty Hose Red Bank Firefighter Car Show\n\nFood, trophi
 es, deejay 12.00 for pre-registration $ 15.00 day of show all registra
 tion mandatory\n\nFor more information visit https://northeastwheelsev
 ents.com/events/liberty-hose-red-bank
DTSTART:20100711T140000Z
DTEND:20100711T190000Z
CATEGORIES:car, show
LOCATION:White St. parking lot
WEBSITE:http://libertyhose94.com
URL:http://libertyhose94.com
CONTACT:732-240-6183
ORGANIZER:Liberty Hose
ATTACH;FMTTYPE="image/jpeg":
ATTENDEE;ROLE=REQ-PARTICIPANT;PARTSTAT=ACCEPTED;RSVP=TRUE;CN="Richard 
 Scott":https://northeastwheelsevents.com/profile/RichardScott
END:VEVENT
END:VCALENDAR
