BEGIN:VCALENDAR
PRODID:NingEventWidget-v1
VERSION:2.0
METHOD:PUBLISH
BEGIN:VEVENT
UID:5167423:Event:69608
DTSTAMP:20260421T005017Z
SUMMARY:LISTEN TO THE MUSIC: SUPERCHARGED GREATS!
DESCRIPTION:The thrill of demonstrating cars is not only in their beau
 ty in motion. Some of them make wonderful sounds, particularly the whi
 ning of the Supercharger, a long-lost excitement that thrilled enthusi
 asts of the past.\n1933 Squire Roadster1931 Bentley 4.5 Litre Supercha
 rged Tourer by Vanden Plas\nWe begin each Demonstration Day with a bri
 ef lecture on each car’s importance and its place in history. Immedi
 ately after the lecture, each car is demonstrated outdoors in the park
 ing lot in a controlled manner, weather permitting. After the demonstr
 ation runs are complete, we lower the ropes and allow guests to see ea
 ch car up close and take pictures. Please check our website for any la
 st-minute changes, before coming to see the event.\n\nFor more informa
 tion visit https://northeastwheelsevents.com/events/listen-to-the-musi
 c-supercharged-greats
DTSTART:20150613T160000Z
DTEND:20150613T180000Z
CATEGORIES:demo, days
LOCATION:Simeone Automotive Foundation Museum
WEBSITE:http://www.simeonemuseum.org/
URL:http://www.simeonemuseum.org/
CONTACT:215-820-3276
ORGANIZER:Simeone Automotive Foundation Museum
ATTACH;FMTTYPE="image/jpeg":http://storage.ning.com/topology/rest/1.0/
 file/get/2284070823?profile=original
ATTENDEE;ROLE=REQ-PARTICIPANT;PARTSTAT=ACCEPTED;RSVP=TRUE;CN="Alex Mar
 tin":https://northeastwheelsevents.com/profile/Alexmartin
END:VEVENT
END:VCALENDAR
