BEGIN:VCALENDAR
PRODID:NingEventWidget-v1
VERSION:2.0
METHOD:PUBLISH
BEGIN:VEVENT
UID:5167423:Event:23067
DTSTAMP:20260422T205553Z
SUMMARY:Little Rhody Pontiac Chapter 21st Annual Car Show
DESCRIPTION:\n\nFor more information visit https://northeastwheelseven
 ts.com/events/little-rhody-pontiac-chapter-21st-annual-car-show
DTSTART:20130623T040000Z
DTEND:20130624T035900Z
CATEGORIES:car, show
LOCATION:Hurd Auto Mall, Johnston RI
WEBSITE:http://littlerhodypontiac.org/wp-content/uploads/2010/05/lrp-1
 .jpg
URL:http://littlerhodypontiac.org/wp-content/uploads/2010/05/lrp-1.jpg
CONTACT:Steve Freitas 401 333-2256  or John Pagliarini 401 738-6239
ORGANIZER:Little Rhody Pontiac Chapter
ATTACH;FMTTYPE="image/jpeg":http://storage.ning.com/topology/rest/1.0/
 file/get/2284052855?profile=original
ATTENDEE;ROLE=REQ-PARTICIPANT;PARTSTAT=ACCEPTED;RSVP=TRUE;CN="Pamela H
 irschhorn":https://northeastwheelsevents.com/profile/PamelaHirschhorn
END:VEVENT
END:VCALENDAR
