BEGIN:VCALENDAR
PRODID:NingEventWidget-v1
VERSION:2.0
METHOD:PUBLISH
BEGIN:VEVENT
UID:5167423:Event:62333
DTSTAMP:20260422T163114Z
SUMMARY:Little Wheeler Day
DESCRIPTION:Little Wheeler Day – All children invited to design thei
 r own white wall tire with chocolate donuts & frosting.\n\nFOR MORE IN
 FO PLEASE GO TO: http://americaonwheels.org/\n\nFor more information 
 visit https://northeastwheelsevents.com/events/little-wheeler-day
DTSTART:20150102T050000Z
DTEND:20150103T045900Z
CATEGORIES:holiday, exhibit, events, family, kids, fun, trains, museum
LOCATION:America On Wheels Museum
WEBSITE:http://americaonwheels.org/
URL:http://americaonwheels.org/
CONTACT:610-432-4200
ORGANIZER;CN="America On Wheels Museum":https://northeastwheelsevents.
 com/profile/americaonwheels
ATTACH;FMTTYPE="image/jpeg":
ATTENDEE;ROLE=REQ-PARTICIPANT;PARTSTAT=ACCEPTED;RSVP=TRUE;CN="America 
 On Wheels Museum":https://northeastwheelsevents.com/profile/americaonw
 heels
END:VEVENT
END:VCALENDAR
