BEGIN:VCALENDAR
PRODID:NingEventWidget-v1
VERSION:2.0
METHOD:PUBLISH
BEGIN:VEVENT
UID:5167423:Event:144137
DTSTAMP:20260423T133849Z
SUMMARY:LM LUCAS OIL Guaranteed Qualifier + LS PS HS
DESCRIPTION:The Hagerstown Speedway is a true 1/2 mile track with stra
 ight-aways over 900 ft. long & 70 ft. wide. The track is 90 ft. wide i
 n the turns. The racing surface is made of the finest red clay in the 
 nation. The smooth, wide surface makes Hagerstown Speedway one of the 
 fastest and safest dirt tracks in the U.S. on which to race.\n\nFor mo
 re information visit https://northeastwheelsevents.com/events/lm-lucas
 -oil-guaranteed-qualifier-ls-ps-hs
DTSTART:20170415T040000Z
DTEND:20170416T035900Z
CATEGORIES:race
LOCATION:Hagerstown Speedway
WEBSITE:http://hagerstownspeedway.com/site/wp-content/uploads/2016/12/
 logo.png
URL:http://hagerstownspeedway.com/site/wp-content/uploads/2016/12/logo
 .png
CONTACT:301-582-0640
ORGANIZER:
ATTACH;FMTTYPE="image/jpeg":http://storage.ning.com/topology/rest/1.0/
 file/get/2284096073?profile=original
ATTENDEE;ROLE=REQ-PARTICIPANT;PARTSTAT=ACCEPTED;RSVP=TRUE;CN="Christop
 her Gosney":https://northeastwheelsevents.com/profile/ChristopherGosne
 y
END:VEVENT
END:VCALENDAR
