BEGIN:VCALENDAR
PRODID:NingEventWidget-v1
VERSION:2.0
METHOD:PUBLISH
BEGIN:VEVENT
UID:5167423:Event:1072
DTSTAMP:20260423T102443Z
SUMMARY:Locust Township Police Department Car Show  Numidia, Pennsylva
 nia
DESCRIPTION:Car show is being held at the Numidia Dragway on July 24, 
 2010. Registration begins at 8am- 12pm. Judging begins at 1pm. There w
 ill also be a race event at the same time. Registration $15.00 per reg
 istration and 20.00 day of show. Fee gets you into the car show and ra
 ce event. Lots of door prizes for everyone\n\nFor more information vis
 it https://northeastwheelsevents.com/events/locust-township-police
DTSTART:20100724T040000Z
DTEND:20100725T035900Z
CATEGORIES:car, show
LOCATION:Numidia Dragway
WEBSITE:
URL:
CONTACT:570-799-5806
ORGANIZER:Contact Locust Township Police Department ( Sgt. Paul t. All
 en)
ATTACH;FMTTYPE="image/jpeg":
ATTENDEE;ROLE=REQ-PARTICIPANT;PARTSTAT=ACCEPTED;RSVP=TRUE;CN="Richard 
 Scott":https://northeastwheelsevents.com/profile/RichardScott
END:VEVENT
END:VCALENDAR
