BEGIN:VCALENDAR
PRODID:NingEventWidget-v1
VERSION:2.0
METHOD:PUBLISH
BEGIN:VEVENT
UID:5167423:Event:348899
DTSTAMP:20260420T102420Z
SUMMARY:Long Island Cars Collectible and Custom Car Show and Swap Meet
DESCRIPTION:Long Island Cars hosts a popular car show and swap meet, 
 featuring hundreds of custom and collectible cars, a car corral, and s
 wap meet vendors, running from 8 am to 4 pm. $10 for admission, under
  12 free, and include over 50 classes for judging. Judged cars with T
 rophies.\r\nNote: It is recommended to verify specific dates on the of
 ficial LongIslandCars.com website as schedules can change.\n\nFor mo
 re information visit https://northeastwheelsevents.com/events/long-isl
 and-cars-collectible-and-custom-car-show-and-swap-meet
DTSTART:20260329T120000Z
DTEND:20260329T200000Z
CATEGORIES:carshow, swapmeet, carcorral
LOCATION:LICH Amphitheater,
WEBSITE:https://www.facebook.com/groups/209132552904194/
URL:https://www.facebook.com/groups/209132552904194/
CONTACT:631 567-5898
ORGANIZER:Long Island Cars
ATTACH;FMTTYPE="image/jpeg":https://storage.ning.com/topology/rest/1.0
 /file/get/31116214872?profile=original
ATTENDEE;ROLE=REQ-PARTICIPANT;PARTSTAT=ACCEPTED;RSVP=TRUE;CN="William 
 Bruce":https://northeastwheelsevents.com/profile/WilliamBruce
END:VEVENT
END:VCALENDAR
