BEGIN:VCALENDAR
PRODID:NingEventWidget-v1
VERSION:2.0
METHOD:PUBLISH
BEGIN:VEVENT
UID:5167423:Event:128325
DTSTAMP:20260424T143701Z
SUMMARY:Long Island cars Custom & Collectible Car Show
DESCRIPTION:Car show, swap meet and car corral. Call for info.\n\nFor 
 more information visit https://northeastwheelsevents.com/events/long-i
 sland-cars-custom-collectible-car-show-2
DTSTART:20161106T130000Z
DTEND:20161106T220000Z
CATEGORIES:car, show, and, swap, meet
LOCATION:Belmont Racetrack, Belmont Long Island
WEBSITE:http://longislandcars.com
URL:http://longislandcars.com
CONTACT:631 567-5898
ORGANIZER:Long Island Cars
ATTACH;FMTTYPE="image/jpeg":
ATTENDEE;ROLE=REQ-PARTICIPANT;PARTSTAT=ACCEPTED;RSVP=TRUE;CN="Pamela H
 irschhorn":https://northeastwheelsevents.com/profile/PamelaHirschhorn
END:VEVENT
END:VCALENDAR
