BEGIN:VCALENDAR
PRODID:NingEventWidget-v1
VERSION:2.0
METHOD:PUBLISH
BEGIN:VEVENT
UID:5167423:Event:174125
DTSTAMP:20260425T104825Z
SUMMARY:Long Island Toy Car TRIFECTA
DESCRIPTION:Model cars, slot cars, die cast, toy cars. Our 5th anniver
 sary show, approx 50 vendor tables. Lots of FREE parking, food and bev
 erages available on premises. $5 admission, under 12 free w/ paid adul
 t, early admission @ 7:30 am $20. Free door prizes. Massapequa Elks Lo
 dge, crnr. Parkside Blvd., north side of LIRR station.\n\nFor more inf
 ormation visit https://northeastwheelsevents.com/events/long-island-to
 y-car-trifecta-1
DTSTART:20180408T140000Z
DTEND:20180408T180000Z
CATEGORIES:vendor, swap, meet
LOCATION:Long Island, NY - south eastern Nassau county
WEBSITE:
URL:
CONTACT:516-680-2399
ORGANIZER;CN="Ernie Finamore":https://northeastwheelsevents.com/profil
 e/SixtyfiveFord
ATTACH;FMTTYPE="image/jpeg":
ATTENDEE;ROLE=REQ-PARTICIPANT;PARTSTAT=ACCEPTED;RSVP=TRUE;CN="Ernie Fi
 namore":https://northeastwheelsevents.com/profile/SixtyfiveFord
END:VEVENT
END:VCALENDAR
