BEGIN:VCALENDAR
PRODID:NingEventWidget-v1
VERSION:2.0
METHOD:PUBLISH
BEGIN:VEVENT
UID:5167423:Event:335330
DTSTAMP:20260423T033232Z
SUMMARY:Longmeadow Trunk or Treat
DESCRIPTION:Enjoy a fun Halloween event for the whole family with Tric
 k-or-Treating, Food Trucks and Music! Long Meadow Families are invited
  to either decorate a Trunk and pass out candy or wear a costume and T
 rick-or-Treat! Trunks are Free! Bring your classic car, truck or bike!
    $10 per person to Trick-or-Treat  $25 per family (3 or more) to Tr
 ick-or-Treat  Food Trucks will be available for purchase in Car Loop  
 Grab something yummy to eat during the event!  Prizes will be awarded 
 to Best Dressed Trunks and Costumes! -Arrival Procedures for the Eveni
 ng of the Event-\r\n TRUNKS Enter through the main Long Meadow Parking
  Lot entrance at 6:pm to set up and decorate your Trunk! Parking lot c
 loses promptly at 6:50pm.  Bring enough candy for at least 250 Trick-o
 r-Treaters\r\nTRICK-or-TREATERS  Enter through the main Long Meadow Pa
 rking Lot entrance anytime after 7:00pm.\r\n *The Bus Loop entrance wi
 ll be closed*  Get your tickets: https://www.longmeadowpta.org/trunkor
 treat\r\ninfo@longmeadowpta.org\n\nFor more information visit https://
 northeastwheelsevents.com/events/longmeadow-trunk-or-treat
DTSTART:20241025T230000Z
DTEND:20241026T000000Z
CATEGORIES:trunkortreat, cruise-in
LOCATION:Long Meadow Parking Lot
WEBSITE:https://allevents.in/longmeadow/trunk-or-treat/200027289575044
URL:https://allevents.in/longmeadow/trunk-or-treat/200027289575044
CONTACT:248-726-3900
ORGANIZER:Longmeadow PTA
ATTACH;FMTTYPE="image/jpeg":https://storage.ning.com/topology/rest/1.0
 /file/get/13019144465?profile=original
ATTENDEE;ROLE=REQ-PARTICIPANT;PARTSTAT=ACCEPTED;RSVP=TRUE;CN="William 
 Bruce":https://northeastwheelsevents.com/profile/WilliamBruce
END:VEVENT
END:VCALENDAR
