BEGIN:VCALENDAR
PRODID:NingEventWidget-v1
VERSION:2.0
METHOD:PUBLISH
BEGIN:VEVENT
UID:5167423:Event:134898
DTSTAMP:20260424T175213Z
SUMMARY:Lori Anne Oliwa
DESCRIPTION:The Red Oak Diner & Lounge will host 'Cruising For Cancer'
  Auto Meet on Saturday, November 5th from 12 Noon to 4 p.m. The diner 
 is located at 2973 Highway 35 North, Hazlet, N.J. 07730. The rain date
  is Saturday, November 12 from 12-4 p.m. Beneficiary is the Meridian H
 ealth Pink Fund at Bayshore Community Hospital, which funds mammograms
  for financially-challenged women and emphasizes the importance of ann
 ual mammograms through the unique initiative, Paint The Town Pink. Al
 l classes of vehicles are welcome to register for the cruise. The fees
  are $15 in advance or $20 at the event. There will be awards for the 
 cars. The event will also feature live music, and dinner and drink spe
 cials. Checks for registration fees should be made payable to Meridia
 n Health Pink Fund with a designation of Bayshore Hospital in the memo
 . The event is FREE and open to the public! For information and regist
 ration forms, contact Organizer Lori Anne Oliwa at LoriAnne@TheWriteAn
 gles.com or call her at (732) 337-8625. Completed registrations can b
 e mailed or hand-delivered to the Red Oak Diner & Lounge to the attent
 ion of Lori Anne Oliwa, c/o Red Oak Diner & Lounge, 2973 Highway 35 No
 rth, Hazlet, N.J. 07730. The telephone number for the Red Oak Diner is
  (732) 335-9360.\n\nFor more information visit https://northeastwheels
 events.com/events/lori-anne-oliwa
DTSTART:20161105T160000Z
DTEND:20161105T200000Z
CATEGORIES:fundraiser, for, breast, cancer
LOCATION:Red Oak Diner & Lounge
WEBSITE:http://www.redoakdiner.com
URL:http://www.redoakdiner.com
CONTACT:732-337-8625
ORGANIZER:
ATTACH;FMTTYPE="image/jpeg":http://storage.ning.com/topology/rest/1.0/
 file/get/2284090681?profile=original
ATTENDEE;ROLE=REQ-PARTICIPANT;PARTSTAT=ACCEPTED;RSVP=TRUE;CN="Lori Ann
 e Oliwa":https://northeastwheelsevents.com/profile/LoriAnneOliwa
END:VEVENT
END:VCALENDAR
