BEGIN:VCALENDAR
PRODID:NingEventWidget-v1
VERSION:2.0
METHOD:PUBLISH
BEGIN:VEVENT
UID:5167423:Event:324420
DTSTAMP:20260421T170258Z
SUMMARY:Loring Timing Association
DESCRIPTION:Landspeed trials \n\nFor more information visit https://n
 ortheastwheelsevents.com/events/loring-timing-association
DTSTART:20240717T040000Z
DTEND:20240721T035900Z
CATEGORIES:race
LOCATION:Loring AFB
WEBSITE:http://www.loringtiming.com
URL:http://www.loringtiming.com
CONTACT:
ORGANIZER:Tim Kelly
ATTACH;FMTTYPE="image/jpeg":https://storage.ning.com/topology/rest/1.0
 /file/get/12359859099?profile=original
ATTENDEE;ROLE=REQ-PARTICIPANT;PARTSTAT=ACCEPTED;RSVP=TRUE;CN="Marcia B
 arker":https://northeastwheelsevents.com/profile/MarciaBarker
END:VEVENT
END:VCALENDAR
