BEGIN:VCALENDAR
PRODID:NingEventWidget-v1
VERSION:2.0
METHOD:PUBLISH
BEGIN:VEVENT
UID:5167423:Event:60788
DTSTAMP:20260422T221550Z
SUMMARY:Lotus: The Art of Lightness
DESCRIPTION:This exhibit will feature a variety of Lotus models and ar
 twork, both road and race throughout their 60 year history. Lotus and 
 the genius of Colin Chapman have been at the forefront of racing techn
 ology and automotive design since 1948.  Chapman’s mantras of simpl
 ification, light weight and the least amount of parts effectively depl
 oyed that went into his racing car design were directly translated int
 o Lotus’ road cars and produced iconic machines such as the Seven, E
 lan, Esprit, and Elise. The rest of the automotive world is finally re
 alizing that horsepower makes you fast in the straights, but light wei
 ght makes you faster everywhere – and more fuel efficient to boot! F
 or over 60 years Lotus has continued to produce class-leading sports 
 cars and are a globally respected automotive engineering consultancy, 
 working with many of the world’s most prestigious car manufacturers.
  \n\nFor more information visit https://northeastwheelsevents.com/eve
 nts/lotus-the-art-of-lightness
DTSTART:20150124T140000Z
DTEND:20150426T210000Z
CATEGORIES:exhibit
LOCATION:AACA Museum
WEBSITE:http://www.aacamuseum.org/lotus-art-lightness/#more-7164'
URL:http://www.aacamuseum.org/lotus-art-lightness/#more-7164'
CONTACT:717-566-7100
ORGANIZER;CN="AACA Museum":https://northeastwheelsevents.com/profile/A
 ACAMuseum553
ATTACH;FMTTYPE="image/jpeg":http://storage.ning.com/topology/rest/1.0/
 file/get/2284063945?profile=original
ATTENDEE;ROLE=REQ-PARTICIPANT;PARTSTAT=ACCEPTED;RSVP=TRUE;CN="Albert M
 ach":https://northeastwheelsevents.com/profile/1lr9x74d5lfem
ATTENDEE;ROLE=REQ-PARTICIPANT;PARTSTAT=ACCEPTED;RSVP=TRUE;CN="AACA Mus
 eum":https://northeastwheelsevents.com/profile/AACAMuseum553
END:VEVENT
END:VCALENDAR
